BEGIN:VCALENDAR
VERSION:2.0
PRODID:-//Thatcham Town Council//Meeting Calendar//EN
CALSCALE:GREGORIAN
METHOD:PUBLISH
BEGIN:VEVENT
UID:78502-20260216@thatchamtowncouncil.gov.uk
DTSTAMP:20260420T080847Z
DTSTART;VALUE=DATE:20260216
DTEND;VALUE=DATE:20260217
SUMMARY:Grants Sub-Committee &#8211\\; 16th February 2026 (cancelled)
DESCRIPTION:Grants Sub-Committee Meeting\nView details: https://thatchamtowncouncil.gov.uk/meetings/grants-sub-committee-16th-february-2026/
URL:https://thatchamtowncouncil.gov.uk/meetings/grants-sub-committee-16th-february-2026/
END:VEVENT
END:VCALENDAR
