BEGIN:VCALENDAR
VERSION:2.0
PRODID:-//Thatcham Town Council//Meeting Calendar//EN
CALSCALE:GREGORIAN
METHOD:PUBLISH
BEGIN:VEVENT
UID:78456-20260210@thatchamtowncouncil.gov.uk
DTSTAMP:20260424T185645Z
DTSTART;VALUE=DATE:20260210
DTEND;VALUE=DATE:20260211
SUMMARY:Planning &#038\\; Highways Committee &#8211\\; 10th February 2026
DESCRIPTION:Planning &amp; Highways Committee Meeting\nView details: https://thatchamtowncouncil.gov.uk/meetings/planning-highways-committee-10th-february-2026/
URL:https://thatchamtowncouncil.gov.uk/meetings/planning-highways-committee-10th-february-2026/
END:VEVENT
END:VCALENDAR
