BEGIN:VCALENDAR
VERSION:2.0
PRODID:-//Thatcham Town Council//Meeting Calendar//EN
CALSCALE:GREGORIAN
METHOD:PUBLISH
BEGIN:VEVENT
UID:78454-20251216@thatchamtowncouncil.gov.uk
DTSTAMP:20260421T080936Z
DTSTART;VALUE=DATE:20251216
DTEND;VALUE=DATE:20251217
SUMMARY:Planning &#038\\; Highways Committee &#8211\\; 16th December 2025
DESCRIPTION:Planning &amp; Highways Committee Meeting\nView details: https://thatchamtowncouncil.gov.uk/meetings/planning-highways-committee-16th-december-2025/
URL:https://thatchamtowncouncil.gov.uk/meetings/planning-highways-committee-16th-december-2025/
END:VEVENT
END:VCALENDAR
