BEGIN:VCALENDAR
VERSION:2.0
PRODID:-//Thatcham Town Council//Meeting Calendar//EN
CALSCALE:GREGORIAN
METHOD:PUBLISH
BEGIN:VEVENT
UID:72459-20240220@thatchamtowncouncil.gov.uk
DTSTAMP:20260420T080038Z
DTSTART;VALUE=DATE:20240220
DTEND;VALUE=DATE:20240221
SUMMARY:Grants Sub-Committee &#8211\\; 20th February 2024
DESCRIPTION:Grants Sub-Committee Meeting\nView details: https://thatchamtowncouncil.gov.uk/meetings/grants-sub-committee-20th-february-2024/
URL:https://thatchamtowncouncil.gov.uk/meetings/grants-sub-committee-20th-february-2024/
END:VEVENT
END:VCALENDAR
